BEGIN:VCALENDAR
VERSION:2.0
PRODID:-//Peninsula SPCA - ECPv6.15.17.1//NONSGML v1.0//EN
CALSCALE:GREGORIAN
METHOD:PUBLISH
X-ORIGINAL-URL:https://peninsulaspca.org
X-WR-CALDESC:Events for Peninsula SPCA
REFRESH-INTERVAL;VALUE=DURATION:PT1H
X-Robots-Tag:noindex
X-PUBLISHED-TTL:PT1H
BEGIN:VTIMEZONE
TZID:America/New_York
BEGIN:DAYLIGHT
TZOFFSETFROM:-0500
TZOFFSETTO:-0400
TZNAME:EDT
DTSTART:20160313T070000
END:DAYLIGHT
BEGIN:STANDARD
TZOFFSETFROM:-0400
TZOFFSETTO:-0500
TZNAME:EST
DTSTART:20161106T060000
END:STANDARD
BEGIN:DAYLIGHT
TZOFFSETFROM:-0500
TZOFFSETTO:-0400
TZNAME:EDT
DTSTART:20170312T070000
END:DAYLIGHT
BEGIN:STANDARD
TZOFFSETFROM:-0400
TZOFFSETTO:-0500
TZNAME:EST
DTSTART:20171105T060000
END:STANDARD
BEGIN:DAYLIGHT
TZOFFSETFROM:-0500
TZOFFSETTO:-0400
TZNAME:EDT
DTSTART:20180311T070000
END:DAYLIGHT
BEGIN:STANDARD
TZOFFSETFROM:-0400
TZOFFSETTO:-0500
TZNAME:EST
DTSTART:20181104T060000
END:STANDARD
END:VTIMEZONE
BEGIN:VEVENT
DTSTART;VALUE=DATE:20170401
DTEND;VALUE=DATE:20170402
DTSTAMP:20260421T143826
CREATED:20170330T163248Z
LAST-MODIFIED:20170330T163248Z
UID:5620-1491004800-1491091199@peninsulaspca.org
SUMMARY:HAPPY BIRTHDAY "ASHTON" 5 yrs old
DESCRIPTION:
URL:https://peninsulaspca.org/event/happy-birthday-ashton-5-yrs-old/
LOCATION:Humane Education Trailer – Peninsula SPCA\, 523 J. Clyde Morris Blvd\, Newport News\, 23601\, United States
END:VEVENT
BEGIN:VEVENT
DTSTART;VALUE=DATE:20170401
DTEND;VALUE=DATE:20170402
DTSTAMP:20260421T143826
CREATED:20170330T163349Z
LAST-MODIFIED:20170330T163349Z
UID:5621-1491004800-1491091199@peninsulaspca.org
SUMMARY:HAPPY BIRTHDAY  "ABIGAIL" 6 yrs old
DESCRIPTION:
URL:https://peninsulaspca.org/event/happy-birthday-abigail-6-yrs-old/
LOCATION:Lily’s Den
END:VEVENT
BEGIN:VEVENT
DTSTART;TZID=America/New_York:20170401T083000
DTEND;TZID=America/New_York:20170401T103000
DTSTAMP:20260421T143826
CREATED:20170330T160814Z
LAST-MODIFIED:20170330T160814Z
UID:5607-1491035400-1491042600@peninsulaspca.org
SUMMARY:Volunteer Purr Pal Training Class  8:30am-10:30
DESCRIPTION:
URL:https://peninsulaspca.org/event/volunteer-purr-pal-training-class-830am-1030/
END:VEVENT
END:VCALENDAR