BEGIN:VCALENDAR
VERSION:2.0
PRODID:-//Peninsula SPCA - ECPv6.15.17.1//NONSGML v1.0//EN
CALSCALE:GREGORIAN
METHOD:PUBLISH
X-ORIGINAL-URL:https://peninsulaspca.org
X-WR-CALDESC:Events for Peninsula SPCA
REFRESH-INTERVAL;VALUE=DURATION:PT1H
X-Robots-Tag:noindex
X-PUBLISHED-TTL:PT1H
BEGIN:VTIMEZONE
TZID:America/New_York
BEGIN:DAYLIGHT
TZOFFSETFROM:-0500
TZOFFSETTO:-0400
TZNAME:EDT
DTSTART:20160313T070000
END:DAYLIGHT
BEGIN:STANDARD
TZOFFSETFROM:-0400
TZOFFSETTO:-0500
TZNAME:EST
DTSTART:20161106T060000
END:STANDARD
BEGIN:DAYLIGHT
TZOFFSETFROM:-0500
TZOFFSETTO:-0400
TZNAME:EDT
DTSTART:20170312T070000
END:DAYLIGHT
BEGIN:STANDARD
TZOFFSETFROM:-0400
TZOFFSETTO:-0500
TZNAME:EST
DTSTART:20171105T060000
END:STANDARD
BEGIN:DAYLIGHT
TZOFFSETFROM:-0500
TZOFFSETTO:-0400
TZNAME:EDT
DTSTART:20180311T070000
END:DAYLIGHT
BEGIN:STANDARD
TZOFFSETFROM:-0400
TZOFFSETTO:-0500
TZNAME:EST
DTSTART:20181104T060000
END:STANDARD
END:VTIMEZONE
BEGIN:VEVENT
DTSTART;VALUE=DATE:20170405
DTEND;VALUE=DATE:20170407
DTSTAMP:20260419T113910
CREATED:20170306T150237Z
LAST-MODIFIED:20170306T150237Z
UID:5491-1491350400-1491523199@peninsulaspca.org
SUMMARY:Spring Break Camp - Grades 3-5
DESCRIPTION:Spring Break Camp\nApril 5-6\, 2017 – Grades 3-5\n9am to 3pm\n\n \nSpend two fun-filled days immersed in animal learning and hands-on activities. Each camp includes a full day of animal-related educational activities\, animal interactions\, visits from special guests and lots of time with the Humane Education pets.
URL:https://peninsulaspca.org/event/spring-break-camp-grades-3-5/
LOCATION:Humane Education Trailer – Peninsula SPCA\, 523 J. Clyde Morris Blvd\, Newport News\, 23601\, United States
END:VEVENT
BEGIN:VEVENT
DTSTART;TZID=America/New_York:20170406T090000
DTEND;TZID=America/New_York:20170406T150000
DTSTAMP:20260419T113910
CREATED:20170312T164119Z
LAST-MODIFIED:20170312T164119Z
UID:5520-1491469200-1491490800@peninsulaspca.org
SUMMARY:Clinic Vaccination Day 9am – 3pm
DESCRIPTION:
URL:https://peninsulaspca.org/event/clinic-vaccination-day-9am-3pm-47/
LOCATION:Clinic Services\, 523 J. Clyde Morris Blvd\, Newport News\, 23601\, United States
END:VEVENT
BEGIN:VEVENT
DTSTART;TZID=America/New_York:20170406T190000
DTEND;TZID=America/New_York:20170406T210000
DTSTAMP:20260419T113910
CREATED:20170306T160206Z
LAST-MODIFIED:20170306T160256Z
UID:5497-1491505200-1491512400@peninsulaspca.org
SUMMARY:CNU Bingo to Benefit the PSPCA
DESCRIPTION:Join the Christopher Newport University SPCA Club for Bingo Night!  There will be Bingo games\, silent auction and raffles.  Light refreshments will be served. All proceeds benefit the Peninsula SPCA! \nDownload the flyer \n  \n 
URL:https://peninsulaspca.org/event/cnu-bingo-to-benefit-the-pspca-2/
LOCATION:Christopher Newport University
END:VEVENT
END:VCALENDAR