BEGIN:VCALENDAR
VERSION:2.0
PRODID:-//Peninsula SPCA - ECPv6.15.17.1//NONSGML v1.0//EN
CALSCALE:GREGORIAN
METHOD:PUBLISH
X-WR-CALNAME:Peninsula SPCA
X-ORIGINAL-URL:https://peninsulaspca.org
X-WR-CALDESC:Events for Peninsula SPCA
REFRESH-INTERVAL;VALUE=DURATION:PT1H
X-Robots-Tag:noindex
X-PUBLISHED-TTL:PT1H
BEGIN:VTIMEZONE
TZID:America/New_York
BEGIN:DAYLIGHT
TZOFFSETFROM:-0500
TZOFFSETTO:-0400
TZNAME:EDT
DTSTART:20190310T070000
END:DAYLIGHT
BEGIN:STANDARD
TZOFFSETFROM:-0400
TZOFFSETTO:-0500
TZNAME:EST
DTSTART:20191103T060000
END:STANDARD
BEGIN:DAYLIGHT
TZOFFSETFROM:-0500
TZOFFSETTO:-0400
TZNAME:EDT
DTSTART:20200308T070000
END:DAYLIGHT
BEGIN:STANDARD
TZOFFSETFROM:-0400
TZOFFSETTO:-0500
TZNAME:EST
DTSTART:20201101T060000
END:STANDARD
BEGIN:DAYLIGHT
TZOFFSETFROM:-0500
TZOFFSETTO:-0400
TZNAME:EDT
DTSTART:20210314T070000
END:DAYLIGHT
BEGIN:STANDARD
TZOFFSETFROM:-0400
TZOFFSETTO:-0500
TZNAME:EST
DTSTART:20211107T060000
END:STANDARD
END:VTIMEZONE
BEGIN:VEVENT
DTSTART;TZID=America/New_York:20200222T140000
DTEND;TZID=America/New_York:20200222T160000
DTSTAMP:20260424T130008
CREATED:20200210T182512Z
LAST-MODIFIED:20200210T182512Z
UID:9801-1582380000-1582387200@peninsulaspca.org
SUMMARY:Pucker Up For Pups
DESCRIPTION:Join us for a fantastic afternoon of live music\, raffles\, giveaways and great brew!\nRaffle tickets are $1 or 6 for $5 and include admission to the kissing booth where you will be greeted by an adorable pup looking to love on you. Use our pup or bring your own! \nPups are WELCOME to come! The more dogs the better! \nLive Music by Rick Mann & Two If By Sea\nGuest kissing booth attendants – Misfit and Diamond
URL:https://peninsulaspca.org/event/pucker-up-for-pups/
LOCATION:Capstan Bar Brewing Company\, 2036 Exploration Way\, Hampton\, VA\, 23666\, United States
END:VEVENT
END:VCALENDAR