BEGIN:VCALENDAR
VERSION:2.0
PRODID:-//Peninsula SPCA - ECPv6.15.17.1//NONSGML v1.0//EN
CALSCALE:GREGORIAN
METHOD:PUBLISH
X-ORIGINAL-URL:https://peninsulaspca.org
X-WR-CALDESC:Events for Peninsula SPCA
REFRESH-INTERVAL;VALUE=DURATION:PT1H
X-Robots-Tag:noindex
X-PUBLISHED-TTL:PT1H
BEGIN:VTIMEZONE
TZID:America/New_York
BEGIN:DAYLIGHT
TZOFFSETFROM:-0500
TZOFFSETTO:-0400
TZNAME:EDT
DTSTART:20210314T070000
END:DAYLIGHT
BEGIN:STANDARD
TZOFFSETFROM:-0400
TZOFFSETTO:-0500
TZNAME:EST
DTSTART:20211107T060000
END:STANDARD
BEGIN:DAYLIGHT
TZOFFSETFROM:-0500
TZOFFSETTO:-0400
TZNAME:EDT
DTSTART:20220313T070000
END:DAYLIGHT
BEGIN:STANDARD
TZOFFSETFROM:-0400
TZOFFSETTO:-0500
TZNAME:EST
DTSTART:20221106T060000
END:STANDARD
BEGIN:DAYLIGHT
TZOFFSETFROM:-0500
TZOFFSETTO:-0400
TZNAME:EDT
DTSTART:20230312T070000
END:DAYLIGHT
BEGIN:STANDARD
TZOFFSETFROM:-0400
TZOFFSETTO:-0500
TZNAME:EST
DTSTART:20231105T060000
END:STANDARD
END:VTIMEZONE
BEGIN:VEVENT
DTSTART;TZID=America/New_York:20220115T100000
DTEND;TZID=America/New_York:20220115T170000
DTSTAMP:20260421T080834
CREATED:20211203T190833Z
LAST-MODIFIED:20211206T152754Z
UID:10658-1642240800-1642266000@peninsulaspca.org
SUMMARY:Pet First Aid & CPR Class
DESCRIPTION:It’s a new year\, kids are back in school after the holidays. What a great time for you to spoil your fur baby – take this life-saving class to help your pet! \nIncludes instruction on: CPR\, Rescue Breathing\, Muzzling & Restraint\, Choking Management\, Bleeding Protocols\, Shock Management\, Heat and cold Injuries\, Poisoning\, The Pet Tech Snout to Tail Assessment for Injury and Wellness\, Dental Care\, Senior Care and more.\n\nCost: $65 per person – half of the proceeds will be donated to the SPCA\n\nInstructor: Scott Kuglin\, Pawsitive Attitudes LLC\n\nREGISTER HERE – https://pettech.net/classes/petsaver-pet-cpr-first-aid-care-1094/
URL:https://peninsulaspca.org/event/pet-first-aid-cpr-class-13/
LOCATION:Humane Education Trailer – Peninsula SPCA\, 523 J. Clyde Morris Blvd\, Newport News\, 23601\, United States
END:VEVENT
END:VCALENDAR