BEGIN:VCALENDAR
VERSION:2.0
PRODID:-//Peninsula SPCA - ECPv6.15.17.1//NONSGML v1.0//EN
CALSCALE:GREGORIAN
METHOD:PUBLISH
X-WR-CALNAME:Peninsula SPCA
X-ORIGINAL-URL:https://peninsulaspca.org
X-WR-CALDESC:Events for Peninsula SPCA
REFRESH-INTERVAL;VALUE=DURATION:PT1H
X-Robots-Tag:noindex
X-PUBLISHED-TTL:PT1H
BEGIN:VTIMEZONE
TZID:America/New_York
BEGIN:DAYLIGHT
TZOFFSETFROM:-0500
TZOFFSETTO:-0400
TZNAME:EDT
DTSTART:20210314T070000
END:DAYLIGHT
BEGIN:STANDARD
TZOFFSETFROM:-0400
TZOFFSETTO:-0500
TZNAME:EST
DTSTART:20211107T060000
END:STANDARD
BEGIN:DAYLIGHT
TZOFFSETFROM:-0500
TZOFFSETTO:-0400
TZNAME:EDT
DTSTART:20220313T070000
END:DAYLIGHT
BEGIN:STANDARD
TZOFFSETFROM:-0400
TZOFFSETTO:-0500
TZNAME:EST
DTSTART:20221106T060000
END:STANDARD
BEGIN:DAYLIGHT
TZOFFSETFROM:-0500
TZOFFSETTO:-0400
TZNAME:EDT
DTSTART:20230312T070000
END:DAYLIGHT
BEGIN:STANDARD
TZOFFSETFROM:-0400
TZOFFSETTO:-0500
TZNAME:EST
DTSTART:20231105T060000
END:STANDARD
END:VTIMEZONE
BEGIN:VEVENT
DTSTART;TZID=America/New_York:20220313T143000
DTEND;TZID=America/New_York:20220313T163000
DTSTAMP:20260421T171334
CREATED:20220209T165039Z
LAST-MODIFIED:20220209T165311Z
UID:10728-1647181800-1647189000@peninsulaspca.org
SUMMARY:Pet Enrichment Class
DESCRIPTION:Pet enrichment is so important! We go to the movies\, eat out\, go to school and work\, take walks in the park\, and so much more to have fun and stimulate ourselves. But what about our pets?\nCome learn what enrichment is\, why it is a crucial need for our pets to have a quality life\, and to get some creative ideas to take home to your furry family members.\nRegistration is only $5\n\nREGISTER HERE: https://peninsulaspca.wufoo.com/forms/pspca-public-programs-registration/
URL:https://peninsulaspca.org/event/pet-enrichment-class-2/
LOCATION:Humane Education Trailer – Peninsula SPCA\, 523 J. Clyde Morris Blvd\, Newport News\, 23601\, United States
END:VEVENT
END:VCALENDAR