BEGIN:VCALENDAR
VERSION:2.0
PRODID:-//Peninsula SPCA - ECPv6.15.17.1//NONSGML v1.0//EN
CALSCALE:GREGORIAN
METHOD:PUBLISH
X-ORIGINAL-URL:https://peninsulaspca.org
X-WR-CALDESC:Events for Peninsula SPCA
REFRESH-INTERVAL;VALUE=DURATION:PT1H
X-Robots-Tag:noindex
X-PUBLISHED-TTL:PT1H
BEGIN:VTIMEZONE
TZID:America/New_York
BEGIN:DAYLIGHT
TZOFFSETFROM:-0500
TZOFFSETTO:-0400
TZNAME:EDT
DTSTART:20210314T070000
END:DAYLIGHT
BEGIN:STANDARD
TZOFFSETFROM:-0400
TZOFFSETTO:-0500
TZNAME:EST
DTSTART:20211107T060000
END:STANDARD
BEGIN:DAYLIGHT
TZOFFSETFROM:-0500
TZOFFSETTO:-0400
TZNAME:EDT
DTSTART:20220313T070000
END:DAYLIGHT
BEGIN:STANDARD
TZOFFSETFROM:-0400
TZOFFSETTO:-0500
TZNAME:EST
DTSTART:20221106T060000
END:STANDARD
BEGIN:DAYLIGHT
TZOFFSETFROM:-0500
TZOFFSETTO:-0400
TZNAME:EDT
DTSTART:20230312T070000
END:DAYLIGHT
BEGIN:STANDARD
TZOFFSETFROM:-0400
TZOFFSETTO:-0500
TZNAME:EST
DTSTART:20231105T060000
END:STANDARD
END:VTIMEZONE
BEGIN:VEVENT
DTSTART;TZID=America/New_York:20221112T100000
DTEND;TZID=America/New_York:20221112T180000
DTSTAMP:20260420T014207
CREATED:20220811T173603Z
LAST-MODIFIED:20220811T173603Z
UID:10931-1668247200-1668276000@peninsulaspca.org
SUMMARY:Pet Tech First Aid & CPR Class
DESCRIPTION:Take this life-saving class to help your pet! \nYou will receive a certificate and a 40+ page handbook that includes information on pet first aid and emergency protocols for dogs and cats. Detailed step by step instructions\, pictures and actions for over 50 emergency situations. \nIncludes instruction on: CPR\, Rescue Breathing\, Muzzling & Restraint\, Choking Management\, Bleeding Protocols\, Shock Management\, Heat and cold Injuries\, Poisoning\, The Pet Tech Snout to Tail Assessment for Injury and Wellness\, Dental Care\, Senior Care and more. \nAdvanced registration required! \nCost: $65 per person – half of the proceeds will be donated to the Peninsula SPCA!\nFull Payment through VENMO “@Scott-Kuglin” is due 24 hours before the start of class to secure a seat. If a payment is received and you do not show for class then half of your fee will be donated to the SPCA and the other half will be applied as a “No-Show” fee back to Pawsitive Attitudes.\n  \nInstructor: Scott Kuglin\, Pawsitive Attitudes LLC \nREGISTER HERE – https://pettech.net/classes/petsaver-pet-cpr-first-aid-care-1099/
URL:https://peninsulaspca.org/event/pet-tech-first-aid-cpr-class-2/
LOCATION:Humane Education Trailer – Peninsula SPCA\, 523 J. Clyde Morris Blvd\, Newport News\, 23601\, United States
END:VEVENT
END:VCALENDAR