BEGIN:VCALENDAR
VERSION:2.0
PRODID:-//Peninsula SPCA - ECPv6.15.17.1//NONSGML v1.0//EN
CALSCALE:GREGORIAN
METHOD:PUBLISH
X-ORIGINAL-URL:https://peninsulaspca.org
X-WR-CALDESC:Events for Peninsula SPCA
REFRESH-INTERVAL;VALUE=DURATION:PT1H
X-Robots-Tag:noindex
X-PUBLISHED-TTL:PT1H
BEGIN:VTIMEZONE
TZID:America/New_York
BEGIN:DAYLIGHT
TZOFFSETFROM:-0500
TZOFFSETTO:-0400
TZNAME:EDT
DTSTART:20220313T070000
END:DAYLIGHT
BEGIN:STANDARD
TZOFFSETFROM:-0400
TZOFFSETTO:-0500
TZNAME:EST
DTSTART:20221106T060000
END:STANDARD
BEGIN:DAYLIGHT
TZOFFSETFROM:-0500
TZOFFSETTO:-0400
TZNAME:EDT
DTSTART:20230312T070000
END:DAYLIGHT
BEGIN:STANDARD
TZOFFSETFROM:-0400
TZOFFSETTO:-0500
TZNAME:EST
DTSTART:20231105T060000
END:STANDARD
BEGIN:DAYLIGHT
TZOFFSETFROM:-0500
TZOFFSETTO:-0400
TZNAME:EDT
DTSTART:20240310T070000
END:DAYLIGHT
BEGIN:STANDARD
TZOFFSETFROM:-0400
TZOFFSETTO:-0500
TZNAME:EST
DTSTART:20241103T060000
END:STANDARD
END:VTIMEZONE
BEGIN:VEVENT
DTSTART;TZID=America/New_York:20230318T100000
DTEND;TZID=America/New_York:20230318T120000
DTSTAMP:20260419T143136
CREATED:20230119T183631Z
LAST-MODIFIED:20230119T183939Z
UID:11244-1679133600-1679140800@peninsulaspca.org
SUMMARY:Kids Pet First Aid Class by Critter Sitters and More
DESCRIPTION:Pet First Aid Class – For Kids! Ages 9-15yrs \nInstruction Covers: \n\nHow to find your pet’s pulse\, respiration\, CRT\nRescue breathing and CPCR\nBandaging techniques\nWhat to do for: bleeding\, heatstroke\, choking\, broken bones and fractures\, frostbite\, poisoning\, seizers\, and more!\nWhat items you need for a pet first aid kit and how to use them\n\n$35 registration also includes a book! \n**MUST register by March 8th** \nRegister now: https://crittersittersandmore.com/kids-pet-first-aid
URL:https://peninsulaspca.org/event/kids-pet-first-aid-class-by-critter-sitters-and-more/
LOCATION:Humane Education Trailer – Peninsula SPCA\, 523 J. Clyde Morris Blvd\, Newport News\, 23601\, United States
END:VEVENT
END:VCALENDAR