BEGIN:VCALENDAR
VERSION:2.0
PRODID:-//Peninsula SPCA - ECPv6.15.17.1//NONSGML v1.0//EN
CALSCALE:GREGORIAN
METHOD:PUBLISH
X-WR-CALNAME:Peninsula SPCA
X-ORIGINAL-URL:https://peninsulaspca.org
X-WR-CALDESC:Events for Peninsula SPCA
REFRESH-INTERVAL;VALUE=DURATION:PT1H
X-Robots-Tag:noindex
X-PUBLISHED-TTL:PT1H
BEGIN:VTIMEZONE
TZID:America/New_York
BEGIN:DAYLIGHT
TZOFFSETFROM:-0500
TZOFFSETTO:-0400
TZNAME:EDT
DTSTART:20180311T070000
END:DAYLIGHT
BEGIN:STANDARD
TZOFFSETFROM:-0400
TZOFFSETTO:-0500
TZNAME:EST
DTSTART:20181104T060000
END:STANDARD
BEGIN:DAYLIGHT
TZOFFSETFROM:-0500
TZOFFSETTO:-0400
TZNAME:EDT
DTSTART:20190310T070000
END:DAYLIGHT
BEGIN:STANDARD
TZOFFSETFROM:-0400
TZOFFSETTO:-0500
TZNAME:EST
DTSTART:20191103T060000
END:STANDARD
BEGIN:DAYLIGHT
TZOFFSETFROM:-0500
TZOFFSETTO:-0400
TZNAME:EDT
DTSTART:20200308T070000
END:DAYLIGHT
BEGIN:STANDARD
TZOFFSETFROM:-0400
TZOFFSETTO:-0500
TZNAME:EST
DTSTART:20201101T060000
END:STANDARD
END:VTIMEZONE
BEGIN:VEVENT
DTSTART;TZID=America/New_York:20190703T090000
DTEND;TZID=America/New_York:20190703T150000
DTSTAMP:20260424T232519
CREATED:20190703T145423Z
LAST-MODIFIED:20190703T145423Z
UID:9319-1562144400-1562166000@peninsulaspca.org
SUMMARY:One Day Camp - STRUCTURES (Grades K-2)
DESCRIPTION:
URL:https://peninsulaspca.org/event/one-day-camp-structures-grades-k-2/
LOCATION:Humane Education Trailer – Peninsula SPCA\, 523 J. Clyde Morris Blvd\, Newport News\, 23601\, United States
END:VEVENT
BEGIN:VEVENT
DTSTART;TZID=America/New_York:20190712T100000
DTEND;TZID=America/New_York:20190712T160000
DTSTAMP:20260424T232519
CREATED:20190709T133201Z
LAST-MODIFIED:20190709T133201Z
UID:9358-1562925600-1562947200@peninsulaspca.org
SUMMARY:Microchip Clinic
DESCRIPTION:JULY MICROCHIP WALK-IN CLINICS\nNo appointments necessary!\nOnly $25\nIs your pet microchipped? One in three pets will become lost at some point in their life. Let’s make sure your furry pet can get home!
URL:https://peninsulaspca.org/event/microchip-clinic/
END:VEVENT
BEGIN:VEVENT
DTSTART;TZID=America/New_York:20190714T150000
DTEND;TZID=America/New_York:20190714T180000
DTSTAMP:20260424T232519
CREATED:20190703T142422Z
LAST-MODIFIED:20190703T143231Z
UID:9299-1563116400-1563127200@peninsulaspca.org
SUMMARY:Doggy Carnival + Photo Contest Launch
DESCRIPTION:Join us at Tradition Brewing Company for our 1st Doggy Carnival + Photo Contest!\n$5 Doggy Wristbands get your furry friend unlimited play!\nEnter your favorite photo of your pet in the 2020 Calendar Contest! \n** Huge amount of raffles – Get your tickets early for the best odds!\n** Live music by Lost Soul Society\n** Delicious food and treats from Deutscher Imbiss\, Ben & Jerry’s & West Village Barkery \n******Dogs MUST be kept on a leash*****
URL:https://peninsulaspca.org/event/doggy-carnival-photo-contest-launch/
LOCATION:Tradition Brewing Company\, 700 Thimble Shoals Blvd\, Newport News\, VA\, 23606\, United States
END:VEVENT
BEGIN:VEVENT
DTSTART;TZID=America/New_York:20190715T090000
DTEND;TZID=America/New_York:20190719T150000
DTSTAMP:20260424T232519
CREATED:20190703T144553Z
LAST-MODIFIED:20190703T144553Z
UID:9309-1563181200-1563548400@peninsulaspca.org
SUMMARY:Summer Camp - Completed Grades 2-3
DESCRIPTION:This week long summer camps offers your kids a wonderful hands-on Humane Education experience. They will spend time each day with our education pets\, our barnyard animals and the shelter pets! Plus surprise guests and activities throughout the day! \nRegistration is required and space is limited. Sign up TODAY! \nhttps://peninsulaspca.wufoo.com/forms/2019-pspca-summer-camps/
URL:https://peninsulaspca.org/event/summer-camp-completed-grades-2-3/
LOCATION:Humane Education Trailer – Peninsula SPCA\, 523 J. Clyde Morris Blvd\, Newport News\, 23601\, United States
END:VEVENT
BEGIN:VEVENT
DTSTART;TZID=America/New_York:20190719T100000
DTEND;TZID=America/New_York:20190719T160000
DTSTAMP:20260424T232519
CREATED:20190709T133240Z
LAST-MODIFIED:20190709T133240Z
UID:9360-1563530400-1563552000@peninsulaspca.org
SUMMARY:Microchip Clinic
DESCRIPTION:JULY MICROCHIP WALK-IN CLINICS\nNo appointments necessary!\nOnly $25\nIs your pet microchipped? One in three pets will become lost at some point in their life. Let’s make sure your furry pet can get home!
URL:https://peninsulaspca.org/event/microchip-clinic-2/
END:VEVENT
BEGIN:VEVENT
DTSTART;TZID=America/New_York:20190720T100000
DTEND;TZID=America/New_York:20190720T180000
DTSTAMP:20260424T232519
CREATED:20181204T173914Z
LAST-MODIFIED:20181204T173914Z
UID:9084-1563616800-1563645600@peninsulaspca.org
SUMMARY:Pet First Aid & CPR Class
DESCRIPTION:Pet First Aid & CPR Class
URL:https://peninsulaspca.org/event/pet-first-aid-cpr-class-9/
LOCATION:Peninsula SPCA\, 523 J. Clyde Morris Blvd\, Newport News\, 23601
END:VEVENT
BEGIN:VEVENT
DTSTART;TZID=America/New_York:20190722T090000
DTEND;TZID=America/New_York:20190726T150000
DTSTAMP:20260424T232519
CREATED:20190703T144915Z
LAST-MODIFIED:20190703T144915Z
UID:9313-1563786000-1564153200@peninsulaspca.org
SUMMARY:Summer Camp - Completed Grades 4-6
DESCRIPTION:This week long summer camps offers your kids a wonderful hands-on Humane Education experience. They will spend time each day with our education pets\, our barnyard animals and the shelter pets! Plus surprise guests and activities throughout the day! \nRegistration is required and space is limited. Sign up TODAY! \nhttps://peninsulaspca.wufoo.com/forms/2019-pspca-summer-camps/
URL:https://peninsulaspca.org/event/summer-camp-completed-grades-4-6/
LOCATION:Humane Education Trailer – Peninsula SPCA\, 523 J. Clyde Morris Blvd\, Newport News\, 23601\, United States
END:VEVENT
BEGIN:VEVENT
DTSTART;TZID=America/New_York:20190722T130000
DTEND;TZID=America/New_York:20190722T160000
DTSTAMP:20260424T232519
CREATED:20190709T132955Z
LAST-MODIFIED:20190709T132955Z
UID:9355-1563800400-1563811200@peninsulaspca.org
SUMMARY:Vaccination Clinic
DESCRIPTION:
URL:https://peninsulaspca.org/event/vaccination-clinic-40/
END:VEVENT
BEGIN:VEVENT
DTSTART;TZID=America/New_York:20190726T100000
DTEND;TZID=America/New_York:20190726T160000
DTSTAMP:20260424T232519
CREATED:20190709T133323Z
LAST-MODIFIED:20190709T133323Z
UID:9362-1564135200-1564156800@peninsulaspca.org
SUMMARY:Microchip Clinic
DESCRIPTION:JULY MICROCHIP WALK-IN CLINICS\nNo appointments necessary!\nOnly $25\nIs your pet microchipped? One in three pets will become lost at some point in their life. Let’s make sure your furry pet can get home!
URL:https://peninsulaspca.org/event/microchip-clinic-3/
END:VEVENT
BEGIN:VEVENT
DTSTART;TZID=America/New_York:20190727T160000
DTEND;TZID=America/New_York:20190727T190000
DTSTAMP:20260424T232519
CREATED:20190703T143116Z
LAST-MODIFIED:20190703T143116Z
UID:9303-1564243200-1564254000@peninsulaspca.org
SUMMARY:5th Annual Open House: Pet Adoption & Family Fun Event
DESCRIPTION:KCAC’s Open House is back for the 5th year in a row! The event will take place on Saturday\, July 27th from 4 pm to 7 pm. The goal of our open house is to not only provide new and current clients with a behind-the-scenes view of Kiln Creek Animal Care\, but also to educate clients on all aspects of animal health\, disease prevention and overall well being. We invite all existing and prospective clients to our open house to express our gratitude in the support you have given us. At Kiln Creek Animal Care\, our clients are our family\, and we want to show you how much we appreciate you! Stop by for games\, treats (for humans and pets)\, tours\, door prizes and SO much more! \nRescues Attending:\nGiant Hearts Giant Dog Rescue\nPoquoson Animal Welfare Sanctuary\, Inc.\n4 Paws Animal Rescue\nPeninsula SPCA\nPeninsula Regional Animal Shelter\nBay Beagle Rescue\nSaver of Souls Pet Rescue\nHeritage Humane Society\nGloucester-Mathews Humane Society\nPit Road K9 Rescue & Sanctuary\nBeauty Through The Rust \nVendors & Organizations Attending:\nDogs on Deployment\nBonilla Pet Photography\nPeninsula Pet Pantry\nFiDough Homemade Dog Treats\nFoxy Roxy Grooming\nClever Critters\nCrossed Paw Collars\nKona Ice of Gloucester/York/N Newport News\nThe Hungry Pug Food Truck\nCute Clickz\nNewport News Police K-9 Unit (if available) \nRaffle Prizes from:\nNail Addict\, LLC\nWest Village Barkery\nRoyal Canin
URL:https://peninsulaspca.org/event/5th-annual-open-house-pet-adoption-family-fun-event/
LOCATION:Kiln Creek Animal Care\, 900 Brick Kiln Blvd\, NEWPORT NEWS\, VA\, 23602\, United States
END:VEVENT
BEGIN:VEVENT
DTSTART;TZID=America/New_York:20190729T090000
DTEND;TZID=America/New_York:20190729T150000
DTSTAMP:20260424T232519
CREATED:20190703T145129Z
LAST-MODIFIED:20190703T145242Z
UID:9315-1564390800-1564412400@peninsulaspca.org
SUMMARY:One Day Camp - ART FUN (Grades K-2)
DESCRIPTION: 
URL:https://peninsulaspca.org/event/one-day-humane-education-camp-art-fun/
LOCATION:Humane Education Trailer – Peninsula SPCA\, 523 J. Clyde Morris Blvd\, Newport News\, 23601\, United States
END:VEVENT
BEGIN:VEVENT
DTSTART;TZID=America/New_York:20190730T090000
DTEND;TZID=America/New_York:20190730T150000
DTSTAMP:20260424T232519
CREATED:20190703T145748Z
LAST-MODIFIED:20190703T145748Z
UID:9323-1564477200-1564498800@peninsulaspca.org
SUMMARY:One Day Camp - STRUCTURES (Grades K-2)
DESCRIPTION:
URL:https://peninsulaspca.org/event/one-day-camp-structures-grades-k-2-2/
LOCATION:Humane Education Trailer – Peninsula SPCA\, 523 J. Clyde Morris Blvd\, Newport News\, 23601\, United States
END:VEVENT
BEGIN:VEVENT
DTSTART;TZID=America/New_York:20190731T090000
DTEND;TZID=America/New_York:20190731T150000
DTSTAMP:20260424T232519
CREATED:20190703T145530Z
LAST-MODIFIED:20190703T145530Z
UID:9321-1564563600-1564585200@peninsulaspca.org
SUMMARY:One Day Camp - STEM Fun! (Grades K-2)
DESCRIPTION:
URL:https://peninsulaspca.org/event/one-day-camp-stem-fun-grades-k-2/
LOCATION:Humane Education Trailer – Peninsula SPCA\, 523 J. Clyde Morris Blvd\, Newport News\, 23601\, United States
END:VEVENT
END:VCALENDAR