BEGIN:VCALENDAR
VERSION:2.0
PRODID:-//Peninsula SPCA - ECPv6.15.17.1//NONSGML v1.0//EN
CALSCALE:GREGORIAN
METHOD:PUBLISH
X-WR-CALNAME:Peninsula SPCA
X-ORIGINAL-URL:https://peninsulaspca.org
X-WR-CALDESC:Events for Peninsula SPCA
REFRESH-INTERVAL;VALUE=DURATION:PT1H
X-Robots-Tag:noindex
X-PUBLISHED-TTL:PT1H
BEGIN:VTIMEZONE
TZID:America/New_York
BEGIN:DAYLIGHT
TZOFFSETFROM:-0500
TZOFFSETTO:-0400
TZNAME:EDT
DTSTART:20210314T070000
END:DAYLIGHT
BEGIN:STANDARD
TZOFFSETFROM:-0400
TZOFFSETTO:-0500
TZNAME:EST
DTSTART:20211107T060000
END:STANDARD
BEGIN:DAYLIGHT
TZOFFSETFROM:-0500
TZOFFSETTO:-0400
TZNAME:EDT
DTSTART:20220313T070000
END:DAYLIGHT
BEGIN:STANDARD
TZOFFSETFROM:-0400
TZOFFSETTO:-0500
TZNAME:EST
DTSTART:20221106T060000
END:STANDARD
BEGIN:DAYLIGHT
TZOFFSETFROM:-0500
TZOFFSETTO:-0400
TZNAME:EDT
DTSTART:20230312T070000
END:DAYLIGHT
BEGIN:STANDARD
TZOFFSETFROM:-0400
TZOFFSETTO:-0500
TZNAME:EST
DTSTART:20231105T060000
END:STANDARD
END:VTIMEZONE
BEGIN:VEVENT
DTSTART;TZID=America/New_York:20220801T090000
DTEND;TZID=America/New_York:20220805T140000
DTSTAMP:20260422T012840
CREATED:20220518T184037Z
LAST-MODIFIED:20220518T184130Z
UID:10798-1659344400-1659708000@peninsulaspca.org
SUMMARY:ONE DAY CAMPS - Rising 4th - 5th Grade
DESCRIPTION:
URL:https://peninsulaspca.org/event/one-day-camps-rising-4th-5th-grade/
LOCATION:Humane Education Trailer – Peninsula SPCA\, 523 J. Clyde Morris Blvd\, Newport News\, 23601\, United States
CATEGORIES:Education
END:VEVENT
BEGIN:VEVENT
DTSTART;TZID=America/New_York:20220806T090000
DTEND;TZID=America/New_York:20220806T160000
DTSTAMP:20260422T012840
CREATED:20220209T164347Z
LAST-MODIFIED:20220721T162406Z
UID:10726-1659776400-1659801600@peninsulaspca.org
SUMMARY:Dog and Cat First Aid & CPCR Class
DESCRIPTION:9 out of 10 Pets WILL Experience an Injury or Illness in their Lifetime.\nLearn how to help Fluffy and Fido BEFORE you get to Vet.\nIn this 6-hour Pet First-Aid & CPCR Class\, you will learn the latest techniques through demonstration\, lecture and hands-on skills practice. \nClass includes:\n75 page Pet First Aid and CPR Quick Reference book\, items needed for the hands-on portion\, 6 hours of instruction certificate of class completion\, 3 month membership in the Pet First Aid Academy to enhance skills. Persons in the pet services profession will receive a badge upon request to display on their website and for use on social media. \n**participants will need a stuffed animal to practice bandaging\, rescue breathing and figure 8 harnesses. \nInstruction covers: \n🐾Muzzling\,  Safe Approach & Restraint \n🐾How to Find Your Pet’s Pulse\, Respiration\, CRT \n🐾Down on all Fours for Pet Safety \n🐾What to do for:  Bleeding Injuries\, Bloat\, Burns\, Choking\, Constipation\, Diarrhea\, Drowning\, Electric Shock\, Frostbite\, Heat Stroke\, Poisoning & Seizures\,  Snake Bites\, Bee Stings\, Upset Tummies & more \n🐾Rescue Breathing  & CPCR (Cardio Pulmonary Cerebral Resuscitation) \n🐾Bandaging  Techniques \n🐾How to use the Items in your Pet First-Aid Kit (and what items you need!) \nREGISTER HERE – https://crittersittersandmore.com/pet-first-aid-registration-form/
URL:https://peninsulaspca.org/event/dog-and-cat-first-aid-cpcr-class-3/
LOCATION:Humane Education Trailer – Peninsula SPCA\, 523 J. Clyde Morris Blvd\, Newport News\, 23601\, United States
END:VEVENT
BEGIN:VEVENT
DTSTART;TZID=America/New_York:20220807T150000
DTEND;TZID=America/New_York:20220807T170000
DTSTAMP:20260422T012840
CREATED:20220802T164919Z
LAST-MODIFIED:20220802T170939Z
UID:10862-1659884400-1659891600@peninsulaspca.org
SUMMARY:Canine and Feline Behavior and Body Language
DESCRIPTION:Miscommunication is the main contributor to our pets exhibiting unwanted behaviors. When we learn how to better understand out pets’ body language and can better communicate with them\, the human-animal bond is stronger and the quality of life for all is higher. Join Clever Critters to learn more about how our dogs and cats communicate through subtle changes in body language\, and how they learn and develop various behaviors based on their genetics\, environments\, and interactions. Our pets are always communicating to us\, so we should make sure we are listening! \nClass will be held in the Humane Education Trailer at the Peninsula SPCA. \nRegistration is only $5 \nRegister here: https://peninsulaspca.wufoo.com/forms/public-programs-registration/
URL:https://peninsulaspca.org/event/canine-and-feline-behavior-and-body-language/
LOCATION:Peninsula SPCA\, 523 J. Clyde Morris Blvd\, Newport News\, 23601
END:VEVENT
BEGIN:VEVENT
DTSTART;TZID=America/New_York:20220808T090000
DTEND;TZID=America/New_York:20220812T140000
DTSTAMP:20260422T012840
CREATED:20220518T184352Z
LAST-MODIFIED:20220518T184352Z
UID:10800-1659949200-1660312800@peninsulaspca.org
SUMMARY:ONE DAY CAMPS - Rising 6th -8th Grade
DESCRIPTION:
URL:https://peninsulaspca.org/event/one-day-camps-rising-6th-8th-grade/
LOCATION:Humane Education Trailer – Peninsula SPCA\, 523 J. Clyde Morris Blvd\, Newport News\, 23601\, United States
CATEGORIES:Education
END:VEVENT
END:VCALENDAR