BEGIN:VCALENDAR
VERSION:2.0
PRODID:-//Peninsula SPCA - ECPv6.15.17.1//NONSGML v1.0//EN
CALSCALE:GREGORIAN
METHOD:PUBLISH
X-WR-CALNAME:Peninsula SPCA
X-ORIGINAL-URL:https://peninsulaspca.org
X-WR-CALDESC:Events for Peninsula SPCA
REFRESH-INTERVAL;VALUE=DURATION:PT1H
X-Robots-Tag:noindex
X-PUBLISHED-TTL:PT1H
BEGIN:VTIMEZONE
TZID:America/New_York
BEGIN:DAYLIGHT
TZOFFSETFROM:-0500
TZOFFSETTO:-0400
TZNAME:EDT
DTSTART:20210314T070000
END:DAYLIGHT
BEGIN:STANDARD
TZOFFSETFROM:-0400
TZOFFSETTO:-0500
TZNAME:EST
DTSTART:20211107T060000
END:STANDARD
BEGIN:DAYLIGHT
TZOFFSETFROM:-0500
TZOFFSETTO:-0400
TZNAME:EDT
DTSTART:20220313T070000
END:DAYLIGHT
BEGIN:STANDARD
TZOFFSETFROM:-0400
TZOFFSETTO:-0500
TZNAME:EST
DTSTART:20221106T060000
END:STANDARD
BEGIN:DAYLIGHT
TZOFFSETFROM:-0500
TZOFFSETTO:-0400
TZNAME:EDT
DTSTART:20230312T070000
END:DAYLIGHT
BEGIN:STANDARD
TZOFFSETFROM:-0400
TZOFFSETTO:-0500
TZNAME:EST
DTSTART:20231105T060000
END:STANDARD
END:VTIMEZONE
BEGIN:VEVENT
DTSTART;TZID=America/New_York:20221004T110000
DTEND;TZID=America/New_York:20221004T170000
DTSTAMP:20260421T171800
CREATED:20220930T170638Z
LAST-MODIFIED:20220930T170638Z
UID:11020-1664881200-1664902800@peninsulaspca.org
SUMMARY:Barktoberfest "Pick Up" Day
DESCRIPTION:Advanced Ticket holders can stop by the Peninsula SPCA and collect their event t-shirts and goody bags prior to the event on Saturday\, Oct. 8th!
URL:https://peninsulaspca.org/event/barktoberfest-pick-up-day/
LOCATION:Peninsula SPCA\, 523 J. Clyde Morris Blvd\, Newport News\, 23601
END:VEVENT
BEGIN:VEVENT
DTSTART;TZID=America/New_York:20221005T110000
DTEND;TZID=America/New_York:20221005T170000
DTSTAMP:20260421T171800
CREATED:20220930T170801Z
LAST-MODIFIED:20220930T170801Z
UID:11024-1664967600-1664989200@peninsulaspca.org
SUMMARY:Barktoberfest "Pick Up" Day
DESCRIPTION:Advanced Ticket holders can stop by the Peninsula SPCA and collect their event t-shirts and goody bags prior to the event on Saturday\, Oct. 8th!
URL:https://peninsulaspca.org/event/barktoberfest-pick-up-day-2/
LOCATION:Peninsula SPCA\, 523 J. Clyde Morris Blvd\, Newport News\, 23601
END:VEVENT
BEGIN:VEVENT
DTSTART;TZID=America/New_York:20221008T120000
DTEND;TZID=America/New_York:20221008T180000
DTSTAMP:20260421T171800
CREATED:20220413T195259Z
LAST-MODIFIED:20220810T143924Z
UID:10765-1665230400-1665252000@peninsulaspca.org
SUMMARY:BARKTOBERFEST
DESCRIPTION:Tickets on sale now! Click here for more information and to get an early bird discount!
URL:https://peninsulaspca.org/event/barktoberfest-3/
LOCATION:Mill Point Park\, Downtown Hampton\, 100 Eaton Street\, Hampton\, 23669\, United States
CATEGORIES:Fundraising events
END:VEVENT
BEGIN:VEVENT
DTSTART;TZID=America/New_York:20221016T150000
DTEND;TZID=America/New_York:20221016T170000
DTSTAMP:20260421T171800
CREATED:20220901T174320Z
LAST-MODIFIED:20220901T174320Z
UID:10976-1665932400-1665939600@peninsulaspca.org
SUMMARY:Canine and Feline Behavior and Body Language
DESCRIPTION:Miscommunication is the main contributor to our pets exhibiting unwanted behaviors. When we learn how to better understand out pets’ body language and can better communicate with them\, the human-animal bond is stronger and the quality of life for all is higher. Join Clever Critters to learn more about how our dogs and cats communicate through subtle changes in body language\, and how they learn and develop various behaviors based on their genetics\, environments\, and interactions. Our pets are always communicating to us\, so we should make sure we are listening! \nClass will be held in the Humane Education Trailer at the Peninsula SPCA. \nRegistration is only $5 \nRegister here: https://peninsulaspca.wufoo.com/forms/public-programs-registration/
URL:https://peninsulaspca.org/event/canine-and-feline-behavior-and-body-language-2/
LOCATION:Humane Education Trailer – Peninsula SPCA\, 523 J. Clyde Morris Blvd\, Newport News\, 23601\, United States
END:VEVENT
END:VCALENDAR