BEGIN:VCALENDAR
VERSION:2.0
PRODID:-//Peninsula SPCA - ECPv6.15.17.1//NONSGML v1.0//EN
CALSCALE:GREGORIAN
METHOD:PUBLISH
X-ORIGINAL-URL:https://peninsulaspca.org
X-WR-CALDESC:Events for Peninsula SPCA
REFRESH-INTERVAL;VALUE=DURATION:PT1H
X-Robots-Tag:noindex
X-PUBLISHED-TTL:PT1H
BEGIN:VTIMEZONE
TZID:America/New_York
BEGIN:DAYLIGHT
TZOFFSETFROM:-0500
TZOFFSETTO:-0400
TZNAME:EDT
DTSTART:20210314T070000
END:DAYLIGHT
BEGIN:STANDARD
TZOFFSETFROM:-0400
TZOFFSETTO:-0500
TZNAME:EST
DTSTART:20211107T060000
END:STANDARD
BEGIN:DAYLIGHT
TZOFFSETFROM:-0500
TZOFFSETTO:-0400
TZNAME:EDT
DTSTART:20220313T070000
END:DAYLIGHT
BEGIN:STANDARD
TZOFFSETFROM:-0400
TZOFFSETTO:-0500
TZNAME:EST
DTSTART:20221106T060000
END:STANDARD
BEGIN:DAYLIGHT
TZOFFSETFROM:-0500
TZOFFSETTO:-0400
TZNAME:EDT
DTSTART:20230312T070000
END:DAYLIGHT
BEGIN:STANDARD
TZOFFSETFROM:-0400
TZOFFSETTO:-0500
TZNAME:EST
DTSTART:20231105T060000
END:STANDARD
END:VTIMEZONE
BEGIN:VEVENT
DTSTART;TZID=America/New_York:20221106T150000
DTEND;TZID=America/New_York:20221106T170000
DTSTAMP:20260419T224952
CREATED:20220901T175042Z
LAST-MODIFIED:20221025T190020Z
UID:10980-1667746800-1667754000@peninsulaspca.org
SUMMARY:Training Methods - New Class!
DESCRIPTION:Join Clever Critters at the Peninsula SPCA as behavior consultant\, Sydney Warner\, provides a look into the various methods of animal training while also providing an introduction to animal behavior and learning. We’ll discuss the pros and cons of different approaches and review what updated research promotes as science-backed methods today. With access to the internet and reality TV\, there is an enormous amount of misleading and even unethical advice. By the end of our discussion\, we hope you’ll feel more knowledgeable about how to choose a professional to work with you and your pet as well as how to improve the human-animal bond with your pets at home! \nRegistration is only $5.00 \nRegister here: https://peninsulaspca.wufoo.com/forms/public-programs-registration/ \n 
URL:https://peninsulaspca.org/event/training-methods/
LOCATION:Humane Education Trailer – Peninsula SPCA\, 523 J. Clyde Morris Blvd\, Newport News\, 23601\, United States
END:VEVENT
BEGIN:VEVENT
DTSTART;TZID=America/New_York:20221112T100000
DTEND;TZID=America/New_York:20221112T180000
DTSTAMP:20260419T224952
CREATED:20220811T173603Z
LAST-MODIFIED:20220811T173603Z
UID:10931-1668247200-1668276000@peninsulaspca.org
SUMMARY:Pet Tech First Aid & CPR Class
DESCRIPTION:Take this life-saving class to help your pet! \nYou will receive a certificate and a 40+ page handbook that includes information on pet first aid and emergency protocols for dogs and cats. Detailed step by step instructions\, pictures and actions for over 50 emergency situations. \nIncludes instruction on: CPR\, Rescue Breathing\, Muzzling & Restraint\, Choking Management\, Bleeding Protocols\, Shock Management\, Heat and cold Injuries\, Poisoning\, The Pet Tech Snout to Tail Assessment for Injury and Wellness\, Dental Care\, Senior Care and more. \nAdvanced registration required! \nCost: $65 per person – half of the proceeds will be donated to the Peninsula SPCA!\nFull Payment through VENMO “@Scott-Kuglin” is due 24 hours before the start of class to secure a seat. If a payment is received and you do not show for class then half of your fee will be donated to the SPCA and the other half will be applied as a “No-Show” fee back to Pawsitive Attitudes.\n  \nInstructor: Scott Kuglin\, Pawsitive Attitudes LLC \nREGISTER HERE – https://pettech.net/classes/petsaver-pet-cpr-first-aid-care-1099/
URL:https://peninsulaspca.org/event/pet-tech-first-aid-cpr-class-2/
LOCATION:Humane Education Trailer – Peninsula SPCA\, 523 J. Clyde Morris Blvd\, Newport News\, 23601\, United States
END:VEVENT
BEGIN:VEVENT
DTSTART;TZID=America/New_York:20221113T100000
DTEND;TZID=America/New_York:20221113T170000
DTSTAMP:20260419T224952
CREATED:20220811T174425Z
LAST-MODIFIED:20220811T174425Z
UID:10952-1668333600-1668358800@peninsulaspca.org
SUMMARY:Critter Sitters Pet First Aid and CPR Class
DESCRIPTION:9 out of 10 Pets WILL Experience an Injury or Illness in their Lifetime.\nLearn how to help Fluffy and Fido BEFORE you get to Vet.\nIn this 6-hour Pet First-Aid & CPCR Class\, you will learn the latest techniques through demonstration\, lecture and hands-on skills practice. \nClass includes:\n75 page Pet First Aid and CPR Quick Reference book\, items needed for the hands-on portion\, 6 hours of instruction certificate of class completion\, 3 month membership in the Pet First Aid Academy to enhance skills. Persons in the pet services profession will receive a badge upon request to display on their website and for use on social media. \n**Participants will need a stuffed animal to practice bandaging\, rescue breathing and figure 8 harnesses. \nInstruction covers: \n🐾Muzzling\,  Safe Approach & Restraint \n🐾How to Find Your Pet’s Pulse\, Respiration\, CRT \n🐾Down on all Fours for Pet Safety \n🐾What to do for:  Bleeding Injuries\, Bloat\, Burns\, Choking\, Constipation\, Diarrhea\, Drowning\, Electric Shock\, Frostbite\, Heat Stroke\, Poisoning & Seizures\,  Snake Bites\, Bee Stings\, Upset Tummies & more \n🐾Rescue Breathing  & CPCR (Cardio Pulmonary Cerebral Resuscitation) \n🐾Bandaging  Techniques \n🐾How to use the Items in your Pet First-Aid Kit (and what items you need!) \nCost $75 \nREGISTER HERE – https://crittersittersandmore.com/pet-first-aid-registration-form/
URL:https://peninsulaspca.org/event/critter-sitters-pet-first-aid-and-cpr-class-2/
LOCATION:Humane Education Trailer – Peninsula SPCA\, 523 J. Clyde Morris Blvd\, Newport News\, 23601\, United States
END:VEVENT
END:VCALENDAR