BEGIN:VCALENDAR
VERSION:2.0
PRODID:-//Peninsula SPCA - ECPv6.15.17.1//NONSGML v1.0//EN
CALSCALE:GREGORIAN
METHOD:PUBLISH
X-WR-CALNAME:Peninsula SPCA
X-ORIGINAL-URL:https://peninsulaspca.org
X-WR-CALDESC:Events for Peninsula SPCA
REFRESH-INTERVAL;VALUE=DURATION:PT1H
X-Robots-Tag:noindex
X-PUBLISHED-TTL:PT1H
BEGIN:VTIMEZONE
TZID:America/New_York
BEGIN:DAYLIGHT
TZOFFSETFROM:-0500
TZOFFSETTO:-0400
TZNAME:EDT
DTSTART:20210314T070000
END:DAYLIGHT
BEGIN:STANDARD
TZOFFSETFROM:-0400
TZOFFSETTO:-0500
TZNAME:EST
DTSTART:20211107T060000
END:STANDARD
BEGIN:DAYLIGHT
TZOFFSETFROM:-0500
TZOFFSETTO:-0400
TZNAME:EDT
DTSTART:20220313T070000
END:DAYLIGHT
BEGIN:STANDARD
TZOFFSETFROM:-0400
TZOFFSETTO:-0500
TZNAME:EST
DTSTART:20221106T060000
END:STANDARD
BEGIN:DAYLIGHT
TZOFFSETFROM:-0500
TZOFFSETTO:-0400
TZNAME:EDT
DTSTART:20230312T070000
END:DAYLIGHT
BEGIN:STANDARD
TZOFFSETFROM:-0400
TZOFFSETTO:-0500
TZNAME:EST
DTSTART:20231105T060000
END:STANDARD
END:VTIMEZONE
BEGIN:VEVENT
DTSTART;TZID=America/New_York:20221211T100000
DTEND;TZID=America/New_York:20221211T160000
DTSTAMP:20260419T171549
CREATED:20221121T204429Z
LAST-MODIFIED:20221122T183450Z
UID:11129-1670752800-1670774400@peninsulaspca.org
SUMMARY:Pet Pictures with Santa
DESCRIPTION:Head on over to the Peninsula SPCA and get your pet’s picture taken with Santa on Sunday December 11th\, 10am-4pm! \nEach photo session is for 15 minutes for a $10 donation. Pictures will be provided through email after the event. \nWalk-ins welcome. However\, reservations will have priority. It is recommended to reserve your spot in advance. Please CLICK HERE to reserve your spot! \n \n** Please note the Peninsula SPCA shelter and Petting Zoo will be closed during this event. **
URL:https://peninsulaspca.org/event/pet-pictures-with-santa/
LOCATION:Peninsula SPCA\, 523 J. Clyde Morris Blvd\, Newport News\, 23601
END:VEVENT
BEGIN:VEVENT
DTSTART;TZID=America/New_York:20221219T090000
DTEND;TZID=America/New_York:20221219T120000
DTSTAMP:20260419T171549
CREATED:20221117T213813Z
LAST-MODIFIED:20221117T214825Z
UID:11071-1671440400-1671451200@peninsulaspca.org
SUMMARY:One-Day Winter Fun Camp - Grades 3-5
DESCRIPTION:Spend a few hours with our Barnyard Buddies\, Humane Education Pets\, and the Shelter Animals!\nMake some fun holiday crafts & read to the animals! \nGrades 3-5: 9am-12pm\nGrades 1-2: 1pm-4pm \nSpace is limited and registration is required.\nCOST: $40 per session \nRegister here: https://peninsulaspca.wufoo.com/forms/2022-one-day-winter-camps/
URL:https://peninsulaspca.org/event/one-day-winter-fun-camp-grades-3-5/
LOCATION:Humane Education Trailer – Peninsula SPCA\, 523 J. Clyde Morris Blvd\, Newport News\, 23601\, United States
END:VEVENT
BEGIN:VEVENT
DTSTART;TZID=America/New_York:20221219T130000
DTEND;TZID=America/New_York:20221219T160000
DTSTAMP:20260419T171549
CREATED:20221117T215054Z
LAST-MODIFIED:20221117T215054Z
UID:11097-1671454800-1671465600@peninsulaspca.org
SUMMARY:One-Day Winter Fun Camp - Grades 1-2
DESCRIPTION:Spend a few hours with our Barnyard Buddies\, Humane Education Pets\, and the Shelter Animals!\nMake some fun holiday crafts & read to the animals! \nGrades 3-5: 9am-12pm\nGrades 1-2: 1pm-4pm \nSpace is limited and registration is required.\nCOST: $40 per session \nRegister here: https://peninsulaspca.wufoo.com/forms/2022-one-day-winter-camps/
URL:https://peninsulaspca.org/event/one-day-winter-fun-camp-grades-1-2/
LOCATION:Humane Education Trailer – Peninsula SPCA\, 523 J. Clyde Morris Blvd\, Newport News\, 23601\, United States
ORGANIZER;CN="The Peninsula SPCA":MAILTO:megan@peninsulaspca.org
END:VEVENT
BEGIN:VEVENT
DTSTART;TZID=America/New_York:20221220T090000
DTEND;TZID=America/New_York:20221220T120000
DTSTAMP:20260419T171549
CREATED:20221117T214202Z
LAST-MODIFIED:20221117T214803Z
UID:11076-1671526800-1671537600@peninsulaspca.org
SUMMARY:One-Day Winter Fun Camp - Grades 3-5
DESCRIPTION:Spend a few hours with our Barnyard Buddies\, Humane Education Pets\, and the Shelter Animals!\nMake some fun holiday crafts & read to the animals! \nGrades 3-5: 9am-12pm\nGrades 1-2: 1pm-4pm \nSpace is limited and registration is required.\nCOST: $40 per session \nRegister here: https://peninsulaspca.wufoo.com/forms/2022-one-day-winter-camps/ \n 
URL:https://peninsulaspca.org/event/one-day-winter-fun-camp-grades-3-5-2/
LOCATION:Humane Education Trailer – Peninsula SPCA\, 523 J. Clyde Morris Blvd\, Newport News\, 23601\, United States
END:VEVENT
BEGIN:VEVENT
DTSTART;TZID=America/New_York:20221220T130000
DTEND;TZID=America/New_York:20221220T160000
DTSTAMP:20260419T171549
CREATED:20221117T215244Z
LAST-MODIFIED:20221117T215244Z
UID:11099-1671541200-1671552000@peninsulaspca.org
SUMMARY:One-Day Winter Fun Camp - Grades 1-2
DESCRIPTION:Spend a few hours with our Barnyard Buddies\, Humane Education Pets\, and the Shelter Animals!\nMake some fun holiday crafts & read to the animals! \nGrades 3-5: 9am-12pm\nGrades 1-2: 1pm-4pm \nSpace is limited and registration is required.\nCOST: $40 per session \nRegister here: https://peninsulaspca.wufoo.com/forms/2022-one-day-winter-camps/
URL:https://peninsulaspca.org/event/one-day-winter-fun-camp-grades-1-2-2/
LOCATION:Humane Education Trailer – Peninsula SPCA\, 523 J. Clyde Morris Blvd\, Newport News\, 23601\, United States
ORGANIZER;CN="The Peninsula SPCA":MAILTO:megan@peninsulaspca.org
END:VEVENT
BEGIN:VEVENT
DTSTART;TZID=America/New_York:20221221T090000
DTEND;TZID=America/New_York:20221221T120000
DTSTAMP:20260419T171549
CREATED:20221117T214412Z
LAST-MODIFIED:20221117T214746Z
UID:11081-1671613200-1671624000@peninsulaspca.org
SUMMARY:One-Day Winter Fun Camp - Grades 3-5
DESCRIPTION:Spend a few hours with our Barnyard Buddies\, Humane Education Pets\, and the Shelter Animals!\nMake some fun holiday crafts & read to the animals! \nGrades 3-5: 9am-12pm\nGrades 1-2: 1pm-4pm \nSpace is limited and registration is required.\nCOST: $40 per session \nRegister here: https://peninsulaspca.wufoo.com/forms/2022-one-day-winter-camps/
URL:https://peninsulaspca.org/event/one-day-winter-fun-camp-grades-3-5-3/
LOCATION:Humane Education Trailer – Peninsula SPCA\, 523 J. Clyde Morris Blvd\, Newport News\, 23601\, United States
END:VEVENT
BEGIN:VEVENT
DTSTART;TZID=America/New_York:20221221T130000
DTEND;TZID=America/New_York:20221221T160000
DTSTAMP:20260419T171549
CREATED:20221117T215422Z
LAST-MODIFIED:20221117T215422Z
UID:11103-1671627600-1671638400@peninsulaspca.org
SUMMARY:One-Day Winter Fun Camp - Grades 1-2
DESCRIPTION:Spend a few hours with our Barnyard Buddies\, Humane Education Pets\, and the Shelter Animals!\nMake some fun holiday crafts & read to the animals! \nGrades 3-5: 9am-12pm\nGrades 1-2: 1pm-4pm \nSpace is limited and registration is required.\nCOST: $40 per session \nRegister here: https://peninsulaspca.wufoo.com/forms/2022-one-day-winter-camps/
URL:https://peninsulaspca.org/event/one-day-winter-fun-camp-grades-1-2-3/
LOCATION:Humane Education Trailer – Peninsula SPCA\, 523 J. Clyde Morris Blvd\, Newport News\, 23601\, United States
ORGANIZER;CN="The Peninsula SPCA":MAILTO:megan@peninsulaspca.org
END:VEVENT
BEGIN:VEVENT
DTSTART;TZID=America/New_York:20221222T090000
DTEND;TZID=America/New_York:20221222T120000
DTSTAMP:20260419T171549
CREATED:20221117T214550Z
LAST-MODIFIED:20221117T214729Z
UID:11083-1671699600-1671710400@peninsulaspca.org
SUMMARY:One-Day Winter Fun Camp - Grades 3-5
DESCRIPTION:Spend a few hours with our Barnyard Buddies\, Humane Education Pets\, and the Shelter Animals!\nMake some fun holiday crafts & read to the animals! \nGrades 3-5: 9am-12pm\nGrades 1-2: 1pm-4pm \nSpace is limited and registration is required.\nCOST: $40 per session \nRegister here: https://peninsulaspca.wufoo.com/forms/2022-one-day-winter-camps/
URL:https://peninsulaspca.org/event/one-day-winter-fun-camp-grades-3-5-4/
LOCATION:Humane Education Trailer – Peninsula SPCA\, 523 J. Clyde Morris Blvd\, Newport News\, 23601\, United States
END:VEVENT
BEGIN:VEVENT
DTSTART;TZID=America/New_York:20221222T130000
DTEND;TZID=America/New_York:20221222T160000
DTSTAMP:20260419T171549
CREATED:20221117T215603Z
LAST-MODIFIED:20221117T215603Z
UID:11105-1671714000-1671724800@peninsulaspca.org
SUMMARY:One-Day Winter Fun Camp - Grades 1-2
DESCRIPTION:Spend a few hours with our Barnyard Buddies\, Humane Education Pets\, and the Shelter Animals!\nMake some fun holiday crafts & read to the animals! \nGrades 3-5: 9am-12pm\nGrades 1-2: 1pm-4pm \nSpace is limited and registration is required.\nCOST: $40 per session \nRegister here: https://peninsulaspca.wufoo.com/forms/2022-one-day-winter-camps/
URL:https://peninsulaspca.org/event/one-day-winter-fun-camp-grades-1-2-4/
LOCATION:Humane Education Trailer – Peninsula SPCA\, 523 J. Clyde Morris Blvd\, Newport News\, 23601\, United States
END:VEVENT
END:VCALENDAR