BEGIN:VCALENDAR
VERSION:2.0
PRODID:-//Peninsula SPCA - ECPv6.15.17.1//NONSGML v1.0//EN
CALSCALE:GREGORIAN
METHOD:PUBLISH
X-ORIGINAL-URL:https://peninsulaspca.org
X-WR-CALDESC:Events for Peninsula SPCA
REFRESH-INTERVAL;VALUE=DURATION:PT1H
X-Robots-Tag:noindex
X-PUBLISHED-TTL:PT1H
BEGIN:VTIMEZONE
TZID:America/New_York
BEGIN:DAYLIGHT
TZOFFSETFROM:-0500
TZOFFSETTO:-0400
TZNAME:EDT
DTSTART:20220313T070000
END:DAYLIGHT
BEGIN:STANDARD
TZOFFSETFROM:-0400
TZOFFSETTO:-0500
TZNAME:EST
DTSTART:20221106T060000
END:STANDARD
BEGIN:DAYLIGHT
TZOFFSETFROM:-0500
TZOFFSETTO:-0400
TZNAME:EDT
DTSTART:20230312T070000
END:DAYLIGHT
BEGIN:STANDARD
TZOFFSETFROM:-0400
TZOFFSETTO:-0500
TZNAME:EST
DTSTART:20231105T060000
END:STANDARD
BEGIN:DAYLIGHT
TZOFFSETFROM:-0500
TZOFFSETTO:-0400
TZNAME:EDT
DTSTART:20240310T070000
END:DAYLIGHT
BEGIN:STANDARD
TZOFFSETFROM:-0400
TZOFFSETTO:-0500
TZNAME:EST
DTSTART:20241103T060000
END:STANDARD
END:VTIMEZONE
BEGIN:VEVENT
DTSTART;TZID=America/New_York:20230211T110000
DTEND;TZID=America/New_York:20230211T150000
DTSTAMP:20260419T143536
CREATED:20230119T172610Z
LAST-MODIFIED:20230119T172610Z
UID:11240-1676113200-1676127600@peninsulaspca.org
SUMMARY:Canine & Feline Behavior & Body Language by Clever Critters
DESCRIPTION:Miscommunication is the main contributor to our pets exhibiting unwanted behaviors. When we learn how to better understand our pet’s body language\, we can better understand them\, strengthening the human-animal bond! \nRegistration is only $5 \nRegister here: https://peninsulaspca.wufoo.com/forms/2023-public-programs  \nClass is presented by Sydney Warner\, Certified Dog Trainer and Canine Behavior Consultant
URL:https://peninsulaspca.org/event/canine-feline-behavior-body-language-by-clever-critters/
LOCATION:Humane Education Trailer – Peninsula SPCA\, 523 J. Clyde Morris Blvd\, Newport News\, 23601\, United States
END:VEVENT
BEGIN:VEVENT
DTSTART;TZID=America/New_York:20230212T100000
DTEND;TZID=America/New_York:20230212T160000
DTSTAMP:20260419T143536
CREATED:20230110T213604Z
LAST-MODIFIED:20230110T213604Z
UID:11227-1676196000-1676217600@peninsulaspca.org
SUMMARY:Valentine Pet Photos
DESCRIPTION:Pucker up with your pet! Pictures with our kissing booth will be done on Sunday\, Feb. 12th from 10am-4pm. They will be done in 10-minute sessions which are available for a $10 donation. All pictures taken during the session will be sent to the guest via email. Time slots are first come first serve. Walk-ins are welcomed\, but reservations will be prioritized over walk-ins. \nSign up here: Peninsula SPCA: Valentine’s Day Photos – Reserve Your Time Slot \n \n**Please note that the shelter and Petting Zoo will be closed to the public during this event.**
URL:https://peninsulaspca.org/event/valentine-pet-photos/
LOCATION:Peninsula SPCA\, 523 J. Clyde Morris Blvd\, Newport News\, 23601
ORGANIZER;CN="The Peninsula SPCA":MAILTO:megan@peninsulaspca.org
END:VEVENT
END:VCALENDAR